BEGIN:VCALENDAR
VERSION:2.0
PRODID:-//Mosquée de Tremblay - ECPv6.15.20//NONSGML v1.0//EN
CALSCALE:GREGORIAN
METHOD:PUBLISH
X-WR-CALNAME:Mosquée de Tremblay
X-ORIGINAL-URL:https://mosqueedetremblay.fr
X-WR-CALDESC:Évènements pour Mosquée de Tremblay
REFRESH-INTERVAL;VALUE=DURATION:PT1H
X-Robots-Tag:noindex
X-PUBLISHED-TTL:PT1H
BEGIN:VTIMEZONE
TZID:Europe/Paris
BEGIN:DAYLIGHT
TZOFFSETFROM:+0100
TZOFFSETTO:+0200
TZNAME:CEST
DTSTART:20240331T010000
END:DAYLIGHT
BEGIN:STANDARD
TZOFFSETFROM:+0200
TZOFFSETTO:+0100
TZNAME:CET
DTSTART:20241027T010000
END:STANDARD
BEGIN:DAYLIGHT
TZOFFSETFROM:+0100
TZOFFSETTO:+0200
TZNAME:CEST
DTSTART:20250330T010000
END:DAYLIGHT
BEGIN:STANDARD
TZOFFSETFROM:+0200
TZOFFSETTO:+0100
TZNAME:CET
DTSTART:20251026T010000
END:STANDARD
BEGIN:DAYLIGHT
TZOFFSETFROM:+0100
TZOFFSETTO:+0200
TZNAME:CEST
DTSTART:20260329T010000
END:DAYLIGHT
BEGIN:STANDARD
TZOFFSETFROM:+0200
TZOFFSETTO:+0100
TZNAME:CET
DTSTART:20261025T010000
END:STANDARD
END:VTIMEZONE
BEGIN:VEVENT
DTSTART;TZID=Europe/Paris:20250328T160000
DTEND;TZID=Europe/Paris:20250328T163000
DTSTAMP:20260421T204856
CREATED:20250319T135621Z
LAST-MODIFIED:20250319T135622Z
UID:3940-1743177600-1743179400@mosqueedetremblay.fr
SUMMARY:Le mois de la patience
DESCRIPTION:
URL:https://mosqueedetremblay.fr/evenements/le-mois-de-la-patience/
END:VEVENT
BEGIN:VEVENT
DTSTART;TZID=Europe/Paris:20250326T160000
DTEND;TZID=Europe/Paris:20250326T163000
DTSTAMP:20260421T204856
CREATED:20250319T134211Z
LAST-MODIFIED:20250319T134212Z
UID:3933-1743004800-1743006600@mosqueedetremblay.fr
SUMMARY:Les objectifs du jeûne
DESCRIPTION:
URL:https://mosqueedetremblay.fr/evenements/les-objectifs-du-jeune-6/
END:VEVENT
BEGIN:VEVENT
DTSTART;TZID=Europe/Paris:20250325T160000
DTEND;TZID=Europe/Paris:20250325T163000
DTSTAMP:20260421T204856
CREATED:20250319T134037Z
LAST-MODIFIED:20250319T134037Z
UID:3931-1742918400-1742920200@mosqueedetremblay.fr
SUMMARY:Les mérites des bonnes actions
DESCRIPTION:
URL:https://mosqueedetremblay.fr/evenements/les-merites-des-bonnes-actions-6/
END:VEVENT
BEGIN:VEVENT
DTSTART;TZID=Europe/Paris:20250324T160000
DTEND;TZID=Europe/Paris:20250324T163000
DTSTAMP:20260421T204856
CREATED:20250319T133749Z
LAST-MODIFIED:20250319T133749Z
UID:3929-1742832000-1742833800@mosqueedetremblay.fr
SUMMARY:Les mérites des bonnes actions
DESCRIPTION:
URL:https://mosqueedetremblay.fr/evenements/les-merites-des-bonnes-actions-5/
END:VEVENT
BEGIN:VEVENT
DTSTART;TZID=Europe/Paris:20250323T160000
DTEND;TZID=Europe/Paris:20250323T160000
DTSTAMP:20260421T204856
CREATED:20250319T134512Z
LAST-MODIFIED:20250319T134512Z
UID:3935-1742745600-1742745600@mosqueedetremblay.fr
SUMMARY:Comment vivre avec le Coran
DESCRIPTION:
URL:https://mosqueedetremblay.fr/evenements/comment-vivre-avec-le-coran-4/
END:VEVENT
BEGIN:VEVENT
DTSTART;TZID=Europe/Paris:20250322T160000
DTEND;TZID=Europe/Paris:20250322T163000
DTSTAMP:20260421T204856
CREATED:20250319T132037Z
LAST-MODIFIED:20250319T132038Z
UID:3925-1742659200-1742661000@mosqueedetremblay.fr
SUMMARY:La bienveillance de l'islam
DESCRIPTION:
URL:https://mosqueedetremblay.fr/evenements/la-bienveillance-de-lislam-3/
END:VEVENT
BEGIN:VEVENT
DTSTART;TZID=Europe/Paris:20250322T060000
DTEND;TZID=Europe/Paris:20250322T063000
DTSTAMP:20260421T204856
CREATED:20250319T131304Z
LAST-MODIFIED:20250319T131304Z
UID:3923-1742623200-1742625000@mosqueedetremblay.fr
SUMMARY:Réflexions coraniques
DESCRIPTION:
URL:https://mosqueedetremblay.fr/evenements/reflexions-coraniques-2/
END:VEVENT
BEGIN:VEVENT
DTSTART;TZID=Europe/Paris:20250321T160000
DTEND;TZID=Europe/Paris:20250321T163000
DTSTAMP:20260421T204856
CREATED:20250319T131041Z
LAST-MODIFIED:20250319T131042Z
UID:3920-1742572800-1742574600@mosqueedetremblay.fr
SUMMARY:Les leçons du ramadan
DESCRIPTION:
URL:https://mosqueedetremblay.fr/evenements/les-lecons-du-ramadan/
END:VEVENT
BEGIN:VEVENT
DTSTART;TZID=Europe/Paris:20250321T060000
DTEND;TZID=Europe/Paris:20250321T063000
DTSTAMP:20260421T204856
CREATED:20250319T125707Z
LAST-MODIFIED:20250319T125708Z
UID:3918-1742536800-1742538600@mosqueedetremblay.fr
SUMMARY:Réflexions spirituelles du ramadan
DESCRIPTION:
URL:https://mosqueedetremblay.fr/evenements/reflexions-spirituelles-du-ramadan-5/
END:VEVENT
BEGIN:VEVENT
DTSTART;TZID=Europe/Paris:20250320T160000
DTEND;TZID=Europe/Paris:20250320T163000
DTSTAMP:20260421T204856
CREATED:20250319T125354Z
LAST-MODIFIED:20250319T125354Z
UID:3915-1742486400-1742488200@mosqueedetremblay.fr
SUMMARY:Les objectifs du jeûne
DESCRIPTION:
URL:https://mosqueedetremblay.fr/evenements/les-objectifs-du-jeune-5/
END:VEVENT
BEGIN:VEVENT
DTSTART;TZID=Europe/Paris:20250320T060000
DTEND;TZID=Europe/Paris:20250320T063000
DTSTAMP:20260421T204856
CREATED:20250319T124732Z
LAST-MODIFIED:20250319T124732Z
UID:3912-1742450400-1742452200@mosqueedetremblay.fr
SUMMARY:Les enseignements de sourate Youssouf
DESCRIPTION:
URL:https://mosqueedetremblay.fr/evenements/les-enseignements-de-sourate-youssouf-3/
END:VEVENT
BEGIN:VEVENT
DTSTART;TZID=Europe/Paris:20250319T160000
DTEND;TZID=Europe/Paris:20250319T163000
DTSTAMP:20260421T204856
CREATED:20250319T124234Z
LAST-MODIFIED:20250319T124235Z
UID:3909-1742400000-1742401800@mosqueedetremblay.fr
SUMMARY:Les objectifs du jeûne
DESCRIPTION:
URL:https://mosqueedetremblay.fr/evenements/les-objectifs-du-jeune-4/
END:VEVENT
BEGIN:VEVENT
DTSTART;TZID=Europe/Paris:20250314T060000
DTEND;TZID=Europe/Paris:20250314T063000
DTSTAMP:20260421T204856
CREATED:20250309T140811Z
LAST-MODIFIED:20250309T140812Z
UID:3901-1741932000-1741933800@mosqueedetremblay.fr
SUMMARY:Réflexions spirituelles du ramadan
DESCRIPTION:
URL:https://mosqueedetremblay.fr/evenements/reflexions-spirituelles-du-ramadan-4/
END:VEVENT
BEGIN:VEVENT
DTSTART;TZID=Europe/Paris:20250313T160000
DTEND;TZID=Europe/Paris:20250313T163000
DTSTAMP:20260421T204856
CREATED:20250309T140639Z
LAST-MODIFIED:20250309T140640Z
UID:3898-1741881600-1741883400@mosqueedetremblay.fr
SUMMARY:Les objectifs du jeûne
DESCRIPTION:
URL:https://mosqueedetremblay.fr/evenements/les-objectifs-du-jeune-3/
END:VEVENT
BEGIN:VEVENT
DTSTART;TZID=Europe/Paris:20250313T060000
DTEND;TZID=Europe/Paris:20250313T063000
DTSTAMP:20260421T204856
CREATED:20250309T140133Z
LAST-MODIFIED:20250309T140134Z
UID:3896-1741845600-1741847400@mosqueedetremblay.fr
SUMMARY:Les enseignements de sourate Youssouf
DESCRIPTION:
URL:https://mosqueedetremblay.fr/evenements/les-enseignements-de-sourate-youssouf-2/
END:VEVENT
BEGIN:VEVENT
DTSTART;TZID=Europe/Paris:20250312T160000
DTEND;TZID=Europe/Paris:20250312T163000
DTSTAMP:20260421T204856
CREATED:20250309T135841Z
LAST-MODIFIED:20250309T135842Z
UID:3893-1741795200-1741797000@mosqueedetremblay.fr
SUMMARY:Les objectifs du jeûne
DESCRIPTION:
URL:https://mosqueedetremblay.fr/evenements/les-objectifs-du-jeune-2/
END:VEVENT
BEGIN:VEVENT
DTSTART;TZID=Europe/Paris:20250312T060000
DTEND;TZID=Europe/Paris:20250312T063000
DTSTAMP:20260421T204856
CREATED:20250309T134129Z
LAST-MODIFIED:20250309T134130Z
UID:3890-1741759200-1741761000@mosqueedetremblay.fr
SUMMARY:Les enseignements de sourate Youssouf
DESCRIPTION:
URL:https://mosqueedetremblay.fr/evenements/les-enseignements-de-sourate-youssouf/
END:VEVENT
BEGIN:VEVENT
DTSTART;TZID=Europe/Paris:20250311T160000
DTEND;TZID=Europe/Paris:20250311T163000
DTSTAMP:20260421T204856
CREATED:20250309T133905Z
LAST-MODIFIED:20250309T133905Z
UID:3887-1741708800-1741710600@mosqueedetremblay.fr
SUMMARY:Les mérites des bonnes actions
DESCRIPTION:
URL:https://mosqueedetremblay.fr/evenements/les-merites-des-bonnes-actions-4/
END:VEVENT
BEGIN:VEVENT
DTSTART;TZID=Europe/Paris:20250311T060000
DTEND;TZID=Europe/Paris:20250311T063000
DTSTAMP:20260421T204856
CREATED:20250309T132924Z
LAST-MODIFIED:20250309T133714Z
UID:3882-1741672800-1741674600@mosqueedetremblay.fr
SUMMARY:Réflexions spirituelles du ramadan
DESCRIPTION:
URL:https://mosqueedetremblay.fr/evenements/reflexions-spirituelles-du-ramadan-3/
END:VEVENT
BEGIN:VEVENT
DTSTART;TZID=Europe/Paris:20250310T160000
DTEND;TZID=Europe/Paris:20250310T163000
DTSTAMP:20260421T204856
CREATED:20250309T132507Z
LAST-MODIFIED:20250309T141327Z
UID:3880-1741622400-1741624200@mosqueedetremblay.fr
SUMMARY:Les mérites des bonnes actions
DESCRIPTION:
URL:https://mosqueedetremblay.fr/evenements/les-merites-des-bonnes-actions-3/
END:VEVENT
BEGIN:VEVENT
DTSTART;TZID=Europe/Paris:20250310T063000
DTEND;TZID=Europe/Paris:20250310T070000
DTSTAMP:20260421T204856
CREATED:20250309T132343Z
LAST-MODIFIED:20250309T141526Z
UID:3878-1741588200-1741590000@mosqueedetremblay.fr
SUMMARY:Sagesses et spiritualités
DESCRIPTION:
URL:https://mosqueedetremblay.fr/evenements/sagesses-et-spiritualites/
END:VEVENT
BEGIN:VEVENT
DTSTART;TZID=Europe/Paris:20250309T160000
DTEND;TZID=Europe/Paris:20250309T163000
DTSTAMP:20260421T204856
CREATED:20250226T015516Z
LAST-MODIFIED:20250226T020108Z
UID:3773-1741536000-1741537800@mosqueedetremblay.fr
SUMMARY:Comment vivre avec le coran
DESCRIPTION:
URL:https://mosqueedetremblay.fr/evenements/comment-vivre-avec-le-coran-2/
END:VEVENT
BEGIN:VEVENT
DTSTART;TZID=Europe/Paris:20250308T160000
DTEND;TZID=Europe/Paris:20250308T163000
DTSTAMP:20260421T204856
CREATED:20250226T014955Z
LAST-MODIFIED:20250226T014955Z
UID:3771-1741449600-1741451400@mosqueedetremblay.fr
SUMMARY:La bienveillance de l'islam
DESCRIPTION:
URL:https://mosqueedetremblay.fr/evenements/la-bienveillance-de-lislam-2/
END:VEVENT
BEGIN:VEVENT
DTSTART;TZID=Europe/Paris:20250308T063000
DTEND;TZID=Europe/Paris:20250308T070000
DTSTAMP:20260421T204856
CREATED:20250226T014754Z
LAST-MODIFIED:20250226T014754Z
UID:3769-1741415400-1741417200@mosqueedetremblay.fr
SUMMARY:Réflexions coraniques
DESCRIPTION:
URL:https://mosqueedetremblay.fr/evenements/reflexions-coraniques/
END:VEVENT
BEGIN:VEVENT
DTSTART;TZID=Europe/Paris:20250307T160000
DTEND;TZID=Europe/Paris:20250307T163000
DTSTAMP:20260421T204856
CREATED:20250226T014244Z
LAST-MODIFIED:20250226T014244Z
UID:3767-1741363200-1741365000@mosqueedetremblay.fr
SUMMARY:Le ramadan et ses bienfaits
DESCRIPTION:
URL:https://mosqueedetremblay.fr/evenements/le-ramadan-et-ses-bienfaits-2/
END:VEVENT
BEGIN:VEVENT
DTSTART;TZID=Europe/Paris:20250307T063000
DTEND;TZID=Europe/Paris:20250307T070000
DTSTAMP:20260421T204856
CREATED:20250226T014038Z
LAST-MODIFIED:20250226T014040Z
UID:3765-1741329000-1741330800@mosqueedetremblay.fr
SUMMARY:Réflexions spirituelles du ramadan
DESCRIPTION:
URL:https://mosqueedetremblay.fr/evenements/reflexions-spirituelles-du-ramadan-2/
END:VEVENT
BEGIN:VEVENT
DTSTART;TZID=Europe/Paris:20250306T160000
DTEND;TZID=Europe/Paris:20250306T163000
DTSTAMP:20260421T204856
CREATED:20250226T013501Z
LAST-MODIFIED:20250226T013502Z
UID:3763-1741276800-1741278600@mosqueedetremblay.fr
SUMMARY:Les objectifs du jeûne
DESCRIPTION:
URL:https://mosqueedetremblay.fr/evenements/les-objectifs-du-jeune/
END:VEVENT
BEGIN:VEVENT
DTSTART;TZID=Europe/Paris:20250306T063000
DTEND;TZID=Europe/Paris:20250306T070000
DTSTAMP:20260421T204856
CREATED:20250226T013335Z
LAST-MODIFIED:20250226T013335Z
UID:3761-1741242600-1741244400@mosqueedetremblay.fr
SUMMARY:Les enseignements de sourates Youssouf
DESCRIPTION:
URL:https://mosqueedetremblay.fr/evenements/les-enseignements-de-sourates-youssouf/
END:VEVENT
BEGIN:VEVENT
DTSTART;TZID=Europe/Paris:20250304T160000
DTEND;TZID=Europe/Paris:20250304T163000
DTSTAMP:20260421T204856
CREATED:20250226T013208Z
LAST-MODIFIED:20250226T013209Z
UID:3759-1741104000-1741105800@mosqueedetremblay.fr
SUMMARY:Les mérites des bonnes actions
DESCRIPTION:
URL:https://mosqueedetremblay.fr/evenements/les-merites-des-bonnes-actions-2/
END:VEVENT
BEGIN:VEVENT
DTSTART;TZID=Europe/Paris:20250304T063000
DTEND;TZID=Europe/Paris:20250304T070000
DTSTAMP:20260421T204856
CREATED:20250226T013030Z
LAST-MODIFIED:20250226T013030Z
UID:3757-1741069800-1741071600@mosqueedetremblay.fr
SUMMARY:Réflexions spirituelles du ramadan
DESCRIPTION:
URL:https://mosqueedetremblay.fr/evenements/reflexions-spirituelles-du-ramadan/
END:VEVENT
END:VCALENDAR